BEGIN:VCALENDAR
VERSION:2.0
PRODID:-//wp-events-plugin.com//7.2.3.1//EN
TZID:America/New_York
X-WR-TIMEZONE:America/New_York
BEGIN:VEVENT
UID:3371@skatetimeny.com
DTSTART;TZID=America/New_York:20260424T200000
DTEND;TZID=America/New_York:20260424T235900
DTSTAMP:20260420T022135Z
URL:https://skatetimeny.com/events/april-adult-skate-2/
SUMMARY:April Adult Skate
DESCRIPTION:
ATTACH;FMTTYPE=image/jpeg:https://i0.wp.com/skatetimeny.com/wp-content/upl
 oads/2026/04/april2-242026.jpg?fit=921%2C1152&ssl=1
CATEGORIES:Featured
LOCATION:Skate Time\, 5164 US Highway 209\, Accord\, New York\, 12404\, Uni
 ted States
GEO:41.79051;-74.24902
X-APPLE-STRUCTURED-LOCATION;VALUE=URI;X-ADDRESS=5164 US Highway 209\, Accor
 d\, New York\, 12404\, United States;X-APPLE-RADIUS=100;X-TITLE=Skate Time
 :geo:41.79051,-74.24902
END:VEVENT
BEGIN:VTIMEZONE
TZID:America/New_York
X-LIC-LOCATION:America/New_York
BEGIN:DAYLIGHT
DTSTART:20260308T030000
TZOFFSETFROM:-0500
TZOFFSETTO:-0400
TZNAME:EDT
END:DAYLIGHT
END:VTIMEZONE
END:VCALENDAR