BEGIN:VCALENDAR
VERSION:2.0
PRODID:-//wp-events-plugin.com//7.2.3.1//EN
TZID:America/New_York
X-WR-TIMEZONE:America/New_York
BEGIN:VEVENT
UID:3250@skatetimeny.com
DTSTART;TZID=America/New_York:20260521T180000
DTEND;TZID=America/New_York:20260521T210000
DTSTAMP:20250714T143334Z
URL:https://skatetimeny.com/events/keep-the-lights-on-2025-07-24-2025-07-3
 1-2025-08-07-2025-08-14-2025-08-21-2025-08-28-2025-09-04-2025-09-11-2025-0
 9-18-2025-09-25-2025-10-02-2025-10-09-2025-10-16-2025-10-23-2025-10-30-20-
 14-2026-05-21/
SUMMARY:Thursday Adult Nite Lite
DESCRIPTION:\n\n\n\nThis 18+ open skate is the perfect place to learn and l
 evel up your skate skills\, and we will also offer FREE admission to anyon
 e who just wants to hang out in our bar/cafe/arcade/billiards area.  The 
 cafe and bar will be fully open\, serving all your favorites. Every Thursd
 ay from 6-9\n\n\n\n
ATTACH;FMTTYPE=image/jpeg:https://i0.wp.com/skatetimeny.com/wp-content/upl
 oads/2023/07/adult-nite-icon-final.jpg?fit=1080%2C1080&ssl=1
LOCATION:Skate Time\, 5164 US Highway 209\, Accord\, New York\, 12404\, Uni
 ted States
GEO:41.79051;-74.24902
X-APPLE-STRUCTURED-LOCATION;VALUE=URI;X-ADDRESS=5164 US Highway 209\, Accor
 d\, New York\, 12404\, United States;X-APPLE-RADIUS=100;X-TITLE=Skate Time
 :geo:41.79051,-74.24902
END:VEVENT
BEGIN:VTIMEZONE
TZID:America/New_York
X-LIC-LOCATION:America/New_York
BEGIN:DAYLIGHT
DTSTART:20260308T030000
TZOFFSETFROM:-0500
TZOFFSETTO:-0400
TZNAME:EDT
END:DAYLIGHT
END:VTIMEZONE
END:VCALENDAR