BEGIN:VCALENDAR
VERSION:2.0
PRODID:-//wp-events-plugin.com//7.2.3.1//EN
TZID:America/New_York
X-WR-TIMEZONE:America/New_York
BEGIN:VEVENT
UID:1006@skatetimeny.com
DTSTART;TZID=America/New_York:20260517T130000
DTEND;TZID=America/New_York:20260517T190000
DTSTAMP:20241228T162753Z
URL:https://skatetimeny.com/events/saturday-evening-2-2026-05-17/
SUMMARY:Sunday
DESCRIPTION:\n\n\n\nJoin us every Sunday\, for our extra long skate session
 \, from 1pm-7pm. Skate games and special prizes every Sunday at 5pm. All a
 ges and skill levels welcome!\n\n\n\n
ATTACH;FMTTYPE=image/jpeg:https://i0.wp.com/skatetimeny.com/wp-content/upl
 oads/2023/04/updated-sunday-icon.jpg?fit=1080%2C1080&ssl=1
LOCATION:Skate Time\, 5164 US Highway 209\, Accord\, New York\, 12404\, Uni
 ted States
GEO:41.79051;-74.24902
X-APPLE-STRUCTURED-LOCATION;VALUE=URI;X-ADDRESS=5164 US Highway 209\, Accor
 d\, New York\, 12404\, United States;X-APPLE-RADIUS=100;X-TITLE=Skate Time
 :geo:41.79051,-74.24902
END:VEVENT
BEGIN:VTIMEZONE
TZID:America/New_York
X-LIC-LOCATION:America/New_York
BEGIN:DAYLIGHT
DTSTART:20260308T030000
TZOFFSETFROM:-0500
TZOFFSETTO:-0400
TZNAME:EDT
END:DAYLIGHT
END:VTIMEZONE
END:VCALENDAR