BEGIN:VCALENDAR
VERSION:2.0
PRODID:-//wp-events-plugin.com//7.2.3.1//EN
TZID:America/New_York
X-WR-TIMEZONE:America/New_York
BEGIN:VEVENT
UID:902@skatetimeny.com
DTSTART;TZID=America/New_York:20260523T170000
DTEND;TZID=America/New_York:20260523T220000
DTSTAMP:20241228T162705Z
URL:https://skatetimeny.com/events/saturday-evening-2026-05-23/
SUMMARY:Saturday Evening
DESCRIPTION:Join us every Saturday for our Saturday night skate! Now with e
 xtended hours\, from 5pm-10pm.
ATTACH;FMTTYPE=image/jpeg:https://i0.wp.com/skatetimeny.com/wp-content/upl
 oads/2023/04/16.png?fit=1080%2C1080&ssl=1
LOCATION:Skate Time\, 5164 US Highway 209\, Accord\, New York\, 12404\, Uni
 ted States
GEO:41.79051;-74.24902
X-APPLE-STRUCTURED-LOCATION;VALUE=URI;X-ADDRESS=5164 US Highway 209\, Accor
 d\, New York\, 12404\, United States;X-APPLE-RADIUS=100;X-TITLE=Skate Time
 :geo:41.79051,-74.24902
END:VEVENT
BEGIN:VTIMEZONE
TZID:America/New_York
X-LIC-LOCATION:America/New_York
BEGIN:DAYLIGHT
DTSTART:20260308T030000
TZOFFSETFROM:-0500
TZOFFSETTO:-0400
TZNAME:EDT
END:DAYLIGHT
END:VTIMEZONE
END:VCALENDAR