BEGIN:VCALENDAR
VERSION:2.0
PRODID:-//wp-events-plugin.com//7.2.3.1//EN
TZID:America/New_York
X-WR-TIMEZONE:America/New_York
BEGIN:VEVENT
UID:797@skatetimeny.com
DTSTART;TZID=Africa/Abidjan:20260523T110000
DTEND;TZID=Africa/Abidjan:20260523T150000
DTSTAMP:20241228T162920Z
URL:https://skatetimeny.com/events/saturday-morning-2026-05-23/
SUMMARY:Saturday Open Skate Early Session
DESCRIPTION:Join us every Saturday\, for the day's first skate session\, fr
 om 11am-3pm. All ages and skill levels welcome\, but this is an especially
  good session for younger kids\, beginners\, and birthday parties.
ATTACH;FMTTYPE=image/jpeg:https://i0.wp.com/skatetimeny.com/wp-content/upl
 oads/2023/04/15.png?fit=1080%2C1080&ssl=1
LOCATION:Skate Time\, 5164 US Highway 209\, Accord\, New York\, 12404\, Uni
 ted States
GEO:41.79051;-74.24902
X-APPLE-STRUCTURED-LOCATION;VALUE=URI;X-ADDRESS=5164 US Highway 209\, Accor
 d\, New York\, 12404\, United States;X-APPLE-RADIUS=100;X-TITLE=Skate Time
 :geo:41.79051,-74.24902
END:VEVENT
BEGIN:VTIMEZONE
TZID:Africa/Abidjan
X-LIC-LOCATION:Africa/Abidjan
BEGIN:STANDARD
DTSTART:20250523T110000
TZOFFSETFROM:+0000
TZOFFSETTO:+0000
TZNAME:GMT
END:STANDARD
END:VTIMEZONE
END:VCALENDAR